BEGIN:VCALENDAR
VERSION:2.0
PRODID:-//The Zoroastrian Society of British Columbia - ECPv6.15.20//NONSGML v1.0//EN
CALSCALE:GREGORIAN
METHOD:PUBLISH
X-WR-CALNAME:The Zoroastrian Society of British Columbia
X-ORIGINAL-URL:https://www.zsbc.org
X-WR-CALDESC:Events for The Zoroastrian Society of British Columbia
REFRESH-INTERVAL;VALUE=DURATION:PT1H
X-Robots-Tag:noindex
X-PUBLISHED-TTL:PT1H
BEGIN:VTIMEZONE
TZID:America/Vancouver
BEGIN:DAYLIGHT
TZOFFSETFROM:-0800
TZOFFSETTO:-0700
TZNAME:PDT
DTSTART:20240310T100000
END:DAYLIGHT
BEGIN:STANDARD
TZOFFSETFROM:-0700
TZOFFSETTO:-0800
TZNAME:PST
DTSTART:20241103T090000
END:STANDARD
BEGIN:DAYLIGHT
TZOFFSETFROM:-0800
TZOFFSETTO:-0700
TZNAME:PDT
DTSTART:20250309T100000
END:DAYLIGHT
BEGIN:STANDARD
TZOFFSETFROM:-0700
TZOFFSETTO:-0800
TZNAME:PST
DTSTART:20251102T090000
END:STANDARD
BEGIN:DAYLIGHT
TZOFFSETFROM:-0800
TZOFFSETTO:-0700
TZNAME:PDT
DTSTART:20260308T100000
END:DAYLIGHT
BEGIN:STANDARD
TZOFFSETFROM:-0700
TZOFFSETTO:-0800
TZNAME:PST
DTSTART:20261101T090000
END:STANDARD
BEGIN:DAYLIGHT
TZOFFSETFROM:-0800
TZOFFSETTO:-0700
TZNAME:PDT
DTSTART:20270314T100000
END:DAYLIGHT
BEGIN:STANDARD
TZOFFSETFROM:-0700
TZOFFSETTO:-0800
TZNAME:PST
DTSTART:20271107T090000
END:STANDARD
END:VTIMEZONE
BEGIN:VEVENT
DTSTART;TZID=America/Vancouver:20260329T120000
DTEND;TZID=America/Vancouver:20260329T170000
DTSTAMP:20260419T215327
CREATED:20260309T023800Z
LAST-MODIFIED:20260309T023800Z
UID:6494-1774785600-1774803600@www.zsbc.org
SUMMARY:Ashoo Zartosht's Birthday
DESCRIPTION:
URL:https://www.zsbc.org/calendar/ashoo-zartoshts-birthday/
END:VEVENT
BEGIN:VEVENT
DTSTART;TZID=America/Vancouver:20260320T080000
DTEND;TZID=America/Vancouver:20260320T183000
DTSTAMP:20260419T215327
CREATED:20260309T023616Z
LAST-MODIFIED:20260309T023616Z
UID:6492-1773993600-1774031400@www.zsbc.org
SUMMARY:Norooz Dido Bazdid
DESCRIPTION:
URL:https://www.zsbc.org/calendar/norooz-dido-bazdid-2/
LOCATION:Darbe Mehr
END:VEVENT
BEGIN:VEVENT
DTSTART;TZID=America/Vancouver:20250816T110000
DTEND;TZID=America/Vancouver:20250816T160000
DTSTAMP:20260419T215327
CREATED:20250816T180005Z
LAST-MODIFIED:20250812T000407Z
UID:6425-1755342000-1755360000@www.zsbc.org
SUMMARY:Wellness Program Session 9
DESCRIPTION:
URL:https://www.zsbc.org/calendar/wellness-program-session-9/
LOCATION:Darbe Mehr
END:VEVENT
BEGIN:VEVENT
DTSTART;TZID=America/Vancouver:20250814T180000
DTEND;TZID=America/Vancouver:20250814T210000
DTSTAMP:20260419T215327
CREATED:20250815T010004Z
LAST-MODIFIED:20250812T000332Z
UID:6433-1755194400-1755205200@www.zsbc.org
SUMMARY:2025 Gathas
DESCRIPTION:
URL:https://www.zsbc.org/calendar/2025-gathas-4/
LOCATION:Darbe Mehr
END:VEVENT
BEGIN:VEVENT
DTSTART;TZID=America/Vancouver:20250813T180000
DTEND;TZID=America/Vancouver:20250813T210000
DTSTAMP:20260419T215327
CREATED:20250812T010035Z
LAST-MODIFIED:20250812T000310Z
UID:6431-1755108000-1755118800@www.zsbc.org
SUMMARY:2025 Gathas
DESCRIPTION:
URL:https://www.zsbc.org/calendar/2025-gathas-3/
LOCATION:Darbe Mehr
END:VEVENT
BEGIN:VEVENT
DTSTART;TZID=America/Vancouver:20250812T180000
DTEND;TZID=America/Vancouver:20250812T200000
DTSTAMP:20260419T215327
CREATED:20250812T010057Z
LAST-MODIFIED:20250812T000753Z
UID:6429-1755021600-1755028800@www.zsbc.org
SUMMARY:2025 Gathas
DESCRIPTION:
URL:https://www.zsbc.org/calendar/2025-gathas-2/
LOCATION:Darbe Mehr
END:VEVENT
BEGIN:VEVENT
DTSTART;TZID=America/Vancouver:20250811T180000
DTEND;TZID=America/Vancouver:20250811T210000
DTSTAMP:20260419T215327
CREATED:20250811T235923Z
LAST-MODIFIED:20250812T000216Z
UID:6427-1754935200-1754946000@www.zsbc.org
SUMMARY:2025 Gathas
DESCRIPTION:
URL:https://www.zsbc.org/calendar/2025-gathas/
END:VEVENT
BEGIN:VEVENT
DTSTART;TZID=America/Vancouver:20250810T110000
DTEND;TZID=America/Vancouver:20250810T150000
DTSTAMP:20260419T215327
CREATED:20250812T000520Z
LAST-MODIFIED:20250812T000520Z
UID:6435-1754823600-1754838000@www.zsbc.org
SUMMARY:2025 Gathas
DESCRIPTION:
URL:https://www.zsbc.org/calendar/2025-gathas-5/
LOCATION:Darbe Mehr
END:VEVENT
BEGIN:VEVENT
DTSTART;TZID=America/Vancouver:20250807T183000
DTEND;TZID=America/Vancouver:20250807T210000
DTSTAMP:20260419T215327
CREATED:20250812T000643Z
LAST-MODIFIED:20250812T000643Z
UID:6437-1754591400-1754600400@www.zsbc.org
SUMMARY:VrahramIzad/Wellness 8
DESCRIPTION:
URL:https://www.zsbc.org/calendar/vrahramizad-wellness-8/
LOCATION:Darbe Mehr
END:VEVENT
BEGIN:VEVENT
DTSTART;TZID=America/Vancouver:20250726T170000
DTEND;TZID=America/Vancouver:20250726T230000
DTSTAMP:20260419T215327
CREATED:20250717T182748Z
LAST-MODIFIED:20250717T182748Z
UID:6390-1753549200-1753570800@www.zsbc.org
SUMMARY:Youth Game Night
DESCRIPTION:
URL:https://www.zsbc.org/calendar/youth-game-night/
LOCATION:Darbe Mehr
END:VEVENT
BEGIN:VEVENT
DTSTART;TZID=America/Vancouver:20250721T173000
DTEND;TZID=America/Vancouver:20250721T173000
DTSTAMP:20260419T215327
CREATED:20250717T182040Z
LAST-MODIFIED:20250717T182437Z
UID:6383-1753119000-1753119000@www.zsbc.org
SUMMARY:Wellness Program - Session 7
DESCRIPTION:Wellness Program – Session 7
URL:https://www.zsbc.org/calendar/wellness-program-session-7/
LOCATION:Darbe Mehr
END:VEVENT
BEGIN:VEVENT
DTSTART;TZID=America/Vancouver:20250713T001300
DTEND;TZID=America/Vancouver:20250713T150000
DTSTAMP:20260419T215327
CREATED:20250717T182540Z
LAST-MODIFIED:20250717T182630Z
UID:6387-1752365580-1752418800@www.zsbc.org
SUMMARY:Alayar Dabestani Memorial
DESCRIPTION:
URL:https://www.zsbc.org/calendar/alayar-dabestani-memorial/
LOCATION:Darbe Mehr
END:VEVENT
BEGIN:VEVENT
DTSTART;TZID=America/Vancouver:20250708T180000
DTEND;TZID=America/Vancouver:20250708T210000
DTSTAMP:20260419T215327
CREATED:20250607T032015Z
LAST-MODIFIED:20250607T032015Z
UID:6354-1751997600-1752008400@www.zsbc.org
SUMMARY:Vrahram Izad
DESCRIPTION:
URL:https://www.zsbc.org/calendar/vrahram-izad-2/
LOCATION:Darbe Mehr
END:VEVENT
BEGIN:VEVENT
DTSTART;VALUE=DATE:20250615
DTEND;VALUE=DATE:20250616
DTSTAMP:20260419T215327
CREATED:20250607T031754Z
LAST-MODIFIED:20250607T031754Z
UID:6352-1749945600-1750031999@www.zsbc.org
SUMMARY:DM Rented
DESCRIPTION:
URL:https://www.zsbc.org/calendar/dm-rented/
LOCATION:Darbe Mehr
END:VEVENT
BEGIN:VEVENT
DTSTART;TZID=America/Vancouver:20250608T180000
DTEND;TZID=America/Vancouver:20250608T200000
DTSTAMP:20260419T215327
CREATED:20250306T013323Z
LAST-MODIFIED:20250306T013323Z
UID:6082-1749405600-1749412800@www.zsbc.org
SUMMARY:Vrahram Izad Rooz
DESCRIPTION:
URL:https://www.zsbc.org/calendar/vrahram-izad-rooz-3/
LOCATION:Darbe Mehr
END:VEVENT
BEGIN:VEVENT
DTSTART;TZID=America/Vancouver:20250608T170000
DTEND;TZID=America/Vancouver:20250608T210000
DTSTAMP:20260419T215327
CREATED:20250607T031244Z
LAST-MODIFIED:20250607T031244Z
UID:6348-1749402000-1749416400@www.zsbc.org
SUMMARY:Vrahram Izad
DESCRIPTION:
URL:https://www.zsbc.org/calendar/vrahram-izad/
LOCATION:Darbe Mehr
END:VEVENT
BEGIN:VEVENT
DTSTART;TZID=America/Vancouver:20250607T130000
DTEND;TZID=America/Vancouver:20250607T170000
DTSTAMP:20260419T215327
CREATED:20250607T031435Z
LAST-MODIFIED:20250607T031435Z
UID:6350-1749301200-1749315600@www.zsbc.org
SUMMARY:Wellness program session 4
DESCRIPTION:
URL:https://www.zsbc.org/calendar/wellness-program-session-4/
LOCATION:Darbe Mehr
END:VEVENT
BEGIN:VEVENT
DTSTART;TZID=America/Vancouver:20250510T130000
DTEND;TZID=America/Vancouver:20250510T170000
DTSTAMP:20260419T215327
CREATED:20250508T043447Z
LAST-MODIFIED:20250508T043548Z
UID:6256-1746882000-1746896400@www.zsbc.org
SUMMARY:Wellness Program Session 2
DESCRIPTION:We’re delighted to invite you to the second session of our Community Wellness Series on Saturday\, May 10th\, from 1:00–5:00 PM at Darbe Mehr. \nThis session features an informative talk on diabetes medications by our very own Mrs. Fariba Khadivi\, an experienced pharmacist\, followed by a hands-on upcycling art project led by Mrs. Azita Behboodi\, an architect and designer\, also from our community. \nPlease\, bring any of the following items you may have at home: a hot glue gun\, craft/wood glue\, acrylic paint\, A4 cardboard\, empty glass jars or bottles\, yarn\, buttons\, colourful napkins—or any other unused materials you’d like to repurpose. \nWe’ll also provide light lunch\, fun activities\, and the chance to connect with one another in a warm\, supportive setting.
URL:https://www.zsbc.org/calendar/wellness-program-session-2/
LOCATION:Darbe Mehr
END:VEVENT
BEGIN:VEVENT
DTSTART;TZID=America/Vancouver:20250509T180000
DTEND;TZID=America/Vancouver:20250509T200000
DTSTAMP:20260419T215327
CREATED:20250306T013232Z
LAST-MODIFIED:20250508T043635Z
UID:6080-1746813600-1746820800@www.zsbc.org
SUMMARY:Vrahram Izad Rooz - Honor and Celebrate
DESCRIPTION:On this evening\, we will celebrate the birthdays of Arbab Rostam Guiv and our long-time\, dedicated member Bella Tata. \nWe will also take this opportunity to honor both Bella Tata and Farrokh Namdaran\, two of our active and devoted members\, whose years of service and support have meant so much to our community.
URL:https://www.zsbc.org/calendar/vrahram-izad-rooz-2/
LOCATION:Darbe Mehr
END:VEVENT
BEGIN:VEVENT
DTSTART;TZID=America/Vancouver:20250427T140000
DTEND;TZID=America/Vancouver:20250427T190000
DTSTAMP:20260419T215327
CREATED:20250317T011706Z
LAST-MODIFIED:20250317T011706Z
UID:6154-1745762400-1745780400@www.zsbc.org
SUMMARY:Darbe Mehr Rented
DESCRIPTION:
URL:https://www.zsbc.org/calendar/darbe-mehr-rented-2/
LOCATION:Darbe Mehr
END:VEVENT
END:VCALENDAR